BEGIN:VCALENDAR
VERSION:2.0
PRODID:-//Habitat for Humanity - ECPv6.15.20//NONSGML v1.0//EN
CALSCALE:GREGORIAN
METHOD:PUBLISH
X-WR-CALNAME:Habitat for Humanity
X-ORIGINAL-URL:https://habitatomaha.org
X-WR-CALDESC:Events for Habitat for Humanity
REFRESH-INTERVAL;VALUE=DURATION:PT1H
X-Robots-Tag:noindex
X-PUBLISHED-TTL:PT1H
BEGIN:VTIMEZONE
TZID:America/Chicago
BEGIN:DAYLIGHT
TZOFFSETFROM:-0600
TZOFFSETTO:-0500
TZNAME:CDT
DTSTART:20230312T080000
END:DAYLIGHT
BEGIN:STANDARD
TZOFFSETFROM:-0500
TZOFFSETTO:-0600
TZNAME:CST
DTSTART:20231105T070000
END:STANDARD
BEGIN:DAYLIGHT
TZOFFSETFROM:-0600
TZOFFSETTO:-0500
TZNAME:CDT
DTSTART:20240310T080000
END:DAYLIGHT
BEGIN:STANDARD
TZOFFSETFROM:-0500
TZOFFSETTO:-0600
TZNAME:CST
DTSTART:20241103T070000
END:STANDARD
BEGIN:DAYLIGHT
TZOFFSETFROM:-0600
TZOFFSETTO:-0500
TZNAME:CDT
DTSTART:20250309T080000
END:DAYLIGHT
BEGIN:STANDARD
TZOFFSETFROM:-0500
TZOFFSETTO:-0600
TZNAME:CST
DTSTART:20251102T070000
END:STANDARD
BEGIN:DAYLIGHT
TZOFFSETFROM:-0600
TZOFFSETTO:-0500
TZNAME:CDT
DTSTART:20260308T080000
END:DAYLIGHT
BEGIN:STANDARD
TZOFFSETFROM:-0500
TZOFFSETTO:-0600
TZNAME:CST
DTSTART:20261101T070000
END:STANDARD
END:VTIMEZONE
BEGIN:VEVENT
DTSTART;VALUE=DATE:20241220
DTEND;VALUE=DATE:20241222
DTSTAMP:20260420T060151
CREATED:20241217T211716Z
LAST-MODIFIED:20241217T211716Z
UID:4337-1734652800-1734825599@habitatomaha.org
SUMMARY:Clear Out Clearance Sale - 50% Off Yellow Tags at the ReStores
DESCRIPTION:🎉🏷️ Yellow Tag Sale Alert! 🏷️🎉 \nSave BIG at Habitat West ReStore and South ReStore!\n📅 December 20-21 | 🕙 10 AM – 6 PM \n🚨 50% OFF all yellow tags! 🚨\nEnd-of-year clearance — in-store only. \n📍 West ReStore: 10910 Emmet St\n📍 South ReStore: 1003 S 24th St \nDon’t miss these deals! Shop to save 💸 and support affordable housing 🏡. See you there! 💛 \n#HabitatReStore #YellowTagSale #ClearanceDeals #ShopLocal #EndOfYearSale
URL:https://habitatomaha.org/event/clear-out-clearance-sale-50-off-yellow-tags-at-the-restores/
LOCATION:ReStore West\, 10910 Emmet St.\, Omaha\, NE\, 68164\, United States
ATTACH;FMTTYPE=image/png:https://habitatomaha.org/wp-content/uploads/2024/12/EOY-Sale-1.png
END:VEVENT
BEGIN:VEVENT
DTSTART;VALUE=DATE:20241224
DTEND;VALUE=DATE:20250102
DTSTAMP:20260420T060151
CREATED:20241217T212247Z
LAST-MODIFIED:20241217T212247Z
UID:4341-1734998400-1735775999@habitatomaha.org
SUMMARY:Holiday Break
DESCRIPTION:Our office and both ReStores will be closed for a short holiday break from December 24th to January 1st. We’ll be back on January 2nd! Wishing you all a joyful holiday season!✨
URL:https://habitatomaha.org/event/holiday-break/
LOCATION:Habitat for Humanity\, 1229 Millwork Ave Ste 301\, Omaha\, NE\, 68102\, United States
ATTACH;FMTTYPE=image/png:https://habitatomaha.org/wp-content/uploads/2024/12/ReStore-Closed-15.png
END:VEVENT
END:VCALENDAR