BEGIN:VCALENDAR
VERSION:2.0
PRODID:-//Habitat for Humanity - ECPv6.15.20//NONSGML v1.0//EN
CALSCALE:GREGORIAN
METHOD:PUBLISH
X-WR-CALNAME:Habitat for Humanity
X-ORIGINAL-URL:https://habitatomaha.org
X-WR-CALDESC:Events for Habitat for Humanity
REFRESH-INTERVAL;VALUE=DURATION:PT1H
X-Robots-Tag:noindex
X-PUBLISHED-TTL:PT1H
BEGIN:VTIMEZONE
TZID:America/Chicago
BEGIN:DAYLIGHT
TZOFFSETFROM:-0600
TZOFFSETTO:-0500
TZNAME:CDT
DTSTART:20250309T080000
END:DAYLIGHT
BEGIN:STANDARD
TZOFFSETFROM:-0500
TZOFFSETTO:-0600
TZNAME:CST
DTSTART:20251102T070000
END:STANDARD
BEGIN:DAYLIGHT
TZOFFSETFROM:-0600
TZOFFSETTO:-0500
TZNAME:CDT
DTSTART:20260308T080000
END:DAYLIGHT
BEGIN:STANDARD
TZOFFSETFROM:-0500
TZOFFSETTO:-0600
TZNAME:CST
DTSTART:20261101T070000
END:STANDARD
BEGIN:DAYLIGHT
TZOFFSETFROM:-0600
TZOFFSETTO:-0500
TZNAME:CDT
DTSTART:20270314T080000
END:DAYLIGHT
BEGIN:STANDARD
TZOFFSETFROM:-0500
TZOFFSETTO:-0600
TZNAME:CST
DTSTART:20271107T070000
END:STANDARD
END:VTIMEZONE
BEGIN:VEVENT
DTSTART;TZID=America/Chicago:20260418T093000
DTEND;TZID=America/Chicago:20260418T103000
DTSTAMP:20260421T030059
CREATED:20260409T203601Z
LAST-MODIFIED:20260409T203601Z
UID:7276-1776504600-1776508200@habitatomaha.org
SUMMARY:Pope Leo Village Wall Raising Event
DESCRIPTION:Join Habitat for Humanity of Omaha\, along with community partners and faith leaders\, as we celebrate a powerful milestone—the very first build day of Pope Leo Village. \nSaturday\, April 18\, 2026 \n9:30-10:30 a.m.\n6731 N. 50th Ave. \nArrive starting at 9:30 a.m. to connect and enjoy refreshments. At 10:00 a.m.\, we’ll share brief remarks before raising the first wall together—a powerful symbol of faith in action. This family‑friendly event invites guests to sign the wall studs\, leaving messages of hope and encouragement that will become part of these homes for generations. All ages and faiths are welcome. \nRegister Here
URL:https://habitatomaha.org/event/popeleovillage/
LOCATION:6731 N. 50th Ave.\, 6731 N. 50th Ave.\, Omaha\, NE\, 68152
CATEGORIES:Rock the Block
ATTACH;FMTTYPE=image/png:https://habitatomaha.org/wp-content/uploads/2026/04/Pope-Leo-Village-Front-010726-1-scaled.png
END:VEVENT
END:VCALENDAR