BEGIN:VCALENDAR
VERSION:2.0
PRODID:-//Habitat for Humanity - ECPv6.15.20//NONSGML v1.0//EN
CALSCALE:GREGORIAN
METHOD:PUBLISH
X-ORIGINAL-URL:https://habitatomaha.org
X-WR-CALDESC:Events for Habitat for Humanity
REFRESH-INTERVAL;VALUE=DURATION:PT1H
X-Robots-Tag:noindex
X-PUBLISHED-TTL:PT1H
BEGIN:VTIMEZONE
TZID:America/Chicago
BEGIN:DAYLIGHT
TZOFFSETFROM:-0600
TZOFFSETTO:-0500
TZNAME:CDT
DTSTART:20250309T080000
END:DAYLIGHT
BEGIN:STANDARD
TZOFFSETFROM:-0500
TZOFFSETTO:-0600
TZNAME:CST
DTSTART:20251102T070000
END:STANDARD
BEGIN:DAYLIGHT
TZOFFSETFROM:-0600
TZOFFSETTO:-0500
TZNAME:CDT
DTSTART:20260308T080000
END:DAYLIGHT
BEGIN:STANDARD
TZOFFSETFROM:-0500
TZOFFSETTO:-0600
TZNAME:CST
DTSTART:20261101T070000
END:STANDARD
BEGIN:DAYLIGHT
TZOFFSETFROM:-0600
TZOFFSETTO:-0500
TZNAME:CDT
DTSTART:20270314T080000
END:DAYLIGHT
BEGIN:STANDARD
TZOFFSETFROM:-0500
TZOFFSETTO:-0600
TZNAME:CST
DTSTART:20271107T070000
END:STANDARD
END:VTIMEZONE
BEGIN:VEVENT
DTSTART;TZID=America/Chicago:20260430T173000
DTEND;TZID=America/Chicago:20260430T190000
DTSTAMP:20260420T070111
CREATED:20260304T221303Z
LAST-MODIFIED:20260324T212903Z
UID:7062-1777570200-1777575600@habitatomaha.org
SUMMARY:Key Conversations with Mayor Ewing
DESCRIPTION:Please join us for a Key Conversations meeting on Thursday\, April 30. Habitat Omaha is bringing together homeowners\, neighbors\, and friends to discuss Mayor Ewing’s current initiatives for the city\, including affordable housing priorities\, the Omaha Streetcar Project\, and the “Year of the Neighbor” initiative. \nWhat: Key Conversations with Habitat for Humanity of Omaha\nWhen: Thursday\, April 30\, 5:30 – 7:00 PM\nWhere: Habitat Omaha Offices (1229 Millwork Ave.\, Suite 301\, Omaha\, NE 68102).\nSpace is limited. Refreshments will be available. \nRegister Here\n 
URL:https://habitatomaha.org/event/key-conversations-with-mayor-ewing/
LOCATION:Habitat for Humanity\, 1229 Millwork Ave Ste 301\, Omaha\, NE\, 68102\, United States
ATTACH;FMTTYPE=image/png:https://habitatomaha.org/wp-content/uploads/2026/03/Key-Conversations-2026.png
END:VEVENT
END:VCALENDAR