BEGIN:VCALENDAR
VERSION:2.0
PRODID:-//Habitat for Humanity - ECPv6.15.20//NONSGML v1.0//EN
CALSCALE:GREGORIAN
METHOD:PUBLISH
X-WR-CALNAME:Habitat for Humanity
X-ORIGINAL-URL:https://habitatomaha.org
X-WR-CALDESC:Events for Habitat for Humanity
REFRESH-INTERVAL;VALUE=DURATION:PT1H
X-Robots-Tag:noindex
X-PUBLISHED-TTL:PT1H
BEGIN:VTIMEZONE
TZID:UTC
BEGIN:STANDARD
TZOFFSETFROM:+0000
TZOFFSETTO:+0000
TZNAME:UTC
DTSTART:20230101T000000
END:STANDARD
END:VTIMEZONE
BEGIN:VEVENT
DTSTART;TZID=UTC:20241102T074500
DTEND;TZID=UTC:20241102T130000
DTSTAMP:20260421T050728
CREATED:20241014T160315Z
LAST-MODIFIED:20241014T160315Z
UID:3580-1730533500-1730552400@habitatomaha.org
SUMMARY:Rock the Block – Miller Park
DESCRIPTION:Miller Park neighborhood revitalization\, exterior repair\, and clean-up. Transforming the face of a block in one day. Types of projects include painting\, light landscaping\, general yard clean-up\, and minor exterior repairs. \nSign Up to Volunteer \nUrgent/Same Day Help\, please contact: 531-335-2018
URL:https://habitatomaha.org/event/rock-the-block-miller-park-2/
LOCATION:Miller Park Neighborhood\, Omaha\, NE\, 68111\, United States
CATEGORIES:Rock the Block
ATTACH;FMTTYPE=image/webp:https://habitatomaha.org/wp-content/uploads/2024/10/RocktheBlockEvent.webp
ORGANIZER;CN="Text%3A 531-335-2018":MAILTO:Volunteer@HabitatOmaha.org
END:VEVENT
END:VCALENDAR