BEGIN:VCALENDAR
VERSION:2.0
PRODID:-//Habitat for Humanity - ECPv6.15.20//NONSGML v1.0//EN
CALSCALE:GREGORIAN
METHOD:PUBLISH
X-WR-CALNAME:Habitat for Humanity
X-ORIGINAL-URL:https://habitatomaha.org
X-WR-CALDESC:Events for Habitat for Humanity
REFRESH-INTERVAL;VALUE=DURATION:PT1H
X-Robots-Tag:noindex
X-PUBLISHED-TTL:PT1H
BEGIN:VTIMEZONE
TZID:UTC
BEGIN:STANDARD
TZOFFSETFROM:+0000
TZOFFSETTO:+0000
TZNAME:UTC
DTSTART:20230101T000000
END:STANDARD
END:VTIMEZONE
BEGIN:VEVENT
DTSTART;TZID=UTC:20240914T080000
DTEND;TZID=UTC:20240914T130000
DTSTAMP:20260423T102853
CREATED:20240823T184146Z
LAST-MODIFIED:20240828T140200Z
UID:2548-1726300800-1726318800@habitatomaha.org
SUMMARY:Rock the Block – Brown Park
DESCRIPTION:Rock the Block is all about neighbors helping neighbors.\nDuring each event\, dozens of volunteers converge on a block to help with the transformation through a variety of beautification and minor exterior repair projects. Through these projects we aim to inspire people to become active participants in their neighborhoods. \nSign Up to Volunteer 
URL:https://habitatomaha.org/event/rock-the-block-brown-park/
LOCATION:Brown Park Neighborhood\, Omaha\, NE\, 68107\, United States
ATTACH;FMTTYPE=image/webp:https://habitatomaha.org/wp-content/uploads/2024/08/ROCKBLOCK.webp
END:VEVENT
END:VCALENDAR