BEGIN:VCALENDAR
VERSION:2.0
PRODID:-//Habitat for Humanity - ECPv6.15.20//NONSGML v1.0//EN
CALSCALE:GREGORIAN
METHOD:PUBLISH
X-ORIGINAL-URL:https://habitatomaha.org
X-WR-CALDESC:Events for Habitat for Humanity
REFRESH-INTERVAL;VALUE=DURATION:PT1H
X-Robots-Tag:noindex
X-PUBLISHED-TTL:PT1H
BEGIN:VTIMEZONE
TZID:UTC
BEGIN:STANDARD
TZOFFSETFROM:+0000
TZOFFSETTO:+0000
TZNAME:UTC
DTSTART:20230101T000000
END:STANDARD
END:VTIMEZONE
BEGIN:VEVENT
DTSTART;TZID=UTC:20240906T170000
DTEND;TZID=UTC:20240906T203000
DTSTAMP:20260423T060604
CREATED:20240531T200121Z
LAST-MODIFIED:20240823T182747Z
UID:398-1725642000-1725654600@habitatomaha.org
SUMMARY:Brew Haha
DESCRIPTION:The 18th Annual Brew Haha is your chance to sip\, savor and support Habitat for Humanity of Omaha! Sample 70 top-notch breweries and local eateries. Every dollar raised helps build strength\, stability and self-reliance for families in our five-county service area. Cheers to making a difference!
URL:https://habitatomaha.org/event/lorem-ipsum/
LOCATION:BMO Bank Parking Lot\, 13505 California Street\, Omaha\, 68154\, United States
ATTACH;FMTTYPE=image/webp:https://habitatomaha.org/wp-content/uploads/2024/08/brew2.webp
END:VEVENT
END:VCALENDAR