BEGIN:VCALENDAR
VERSION:2.0
PRODID:-//Habitat for Humanity - ECPv6.15.20//NONSGML v1.0//EN
CALSCALE:GREGORIAN
METHOD:PUBLISH
X-WR-CALNAME:Habitat for Humanity
X-ORIGINAL-URL:https://habitatomaha.org
X-WR-CALDESC:Events for Habitat for Humanity
REFRESH-INTERVAL;VALUE=DURATION:PT1H
X-Robots-Tag:noindex
X-PUBLISHED-TTL:PT1H
BEGIN:VTIMEZONE
TZID:UTC
BEGIN:STANDARD
TZOFFSETFROM:+0000
TZOFFSETTO:+0000
TZNAME:UTC
DTSTART:20230101T000000
END:STANDARD
END:VTIMEZONE
BEGIN:VEVENT
DTSTART;TZID=UTC:20240817T110000
DTEND;TZID=UTC:20240817T140000
DTSTAMP:20260423T060542
CREATED:20240823T203745Z
LAST-MODIFIED:20240823T203745Z
UID:2624-1723892400-1723903200@habitatomaha.org
SUMMARY:Homeowner Open House
DESCRIPTION:August 17 @ 11:00 am–2:00 pm
URL:https://habitatomaha.org/event/homeowner-open-house/
LOCATION:NE
END:VEVENT
END:VCALENDAR